BEGIN:VCALENDAR
VERSION:2.0
PRODID:-//Redeemed Global Revival Center - ECPv4.6.9//NONSGML v1.0//EN
CALSCALE:GREGORIAN
METHOD:PUBLISH
X-WR-CALNAME:Redeemed Global Revival Center
X-ORIGINAL-URL:https://rgrcenter.org
X-WR-CALDESC:Events for Redeemed Global Revival Center
BEGIN:VEVENT
DTSTART;TZID=UTC+0:20240330T110000
DTEND;TZID=UTC+0:20240330T170000
DTSTAMP:20260422T182458
CREATED:20240220T062349Z
LAST-MODIFIED:20240220T062652Z
UID:3362-1711796400-1711818000@rgrcenter.org
SUMMARY:DEBT CANCELLATION SERVICE
DESCRIPTION: \n \n
URL:https://rgrcenter.org/event/debt-cancellation-service/
CATEGORIES:Ministry
ATTACH;FMTTYPE=image/jpeg:https://rgrcenter.org/wp-content/uploads/2024/02/WhatsApp-Image-2024-02-20-at-03.01.17.jpeg
END:VEVENT
END:VCALENDAR