BEGIN:VCALENDAR
VERSION:2.0
PRODID:-//Redeemed Global Revival Center - ECPv4.6.9//NONSGML v1.0//EN
CALSCALE:GREGORIAN
METHOD:PUBLISH
X-WR-CALNAME:Redeemed Global Revival Center
X-ORIGINAL-URL:https://rgrcenter.org
X-WR-CALDESC:Events for Redeemed Global Revival Center
BEGIN:VEVENT
DTSTART;VALUE=DATE:20230729
DTEND;VALUE=DATE:20230730
DTSTAMP:20260423T043706
CREATED:20230720T053926Z
LAST-MODIFIED:20230720T054057Z
UID:3272-1690588800-1690675199@rgrcenter.org
SUMMARY:Prophetic Manifestation
DESCRIPTION: \n \n
URL:https://rgrcenter.org/event/prophetic-manifestation-2/
LOCATION:United States
CATEGORIES:Ministry
ATTACH;FMTTYPE=image/jpeg:https://rgrcenter.org/wp-content/uploads/2023/07/WhatsApp-Image-2023-07-20-at-5.07.56-AM.jpeg
END:VEVENT
END:VCALENDAR