BEGIN:VCALENDAR
VERSION:2.0
PRODID:-//Redeemed Global Revival Center - ECPv4.6.9//NONSGML v1.0//EN
CALSCALE:GREGORIAN
METHOD:PUBLISH
X-WR-CALNAME:Redeemed Global Revival Center
X-ORIGINAL-URL:https://rgrcenter.org
X-WR-CALDESC:Events for Redeemed Global Revival Center
BEGIN:VEVENT
DTSTART;TZID=UTC+0:20230624T103000
DTEND;TZID=UTC+0:20230624T170000
DTSTAMP:20260423T060548
CREATED:20230502T060651Z
LAST-MODIFIED:20230510T113046Z
UID:3250-1687602600-1687626000@rgrcenter.org
SUMMARY:Prophetic Manifestation
DESCRIPTION: \n \n
URL:https://rgrcenter.org/event/prophetic-manifestation/
CATEGORIES:Ministry
ATTACH;FMTTYPE=image/jpeg:https://rgrcenter.org/wp-content/uploads/2023/05/WhatsApp-Image-2023-05-10-at-11.10.45-AM.jpeg
END:VEVENT
END:VCALENDAR