BEGIN:VCALENDAR
VERSION:2.0
PRODID:-//Redeemed Global Revival Center - ECPv4.6.9//NONSGML v1.0//EN
CALSCALE:GREGORIAN
METHOD:PUBLISH
X-WR-CALNAME:Redeemed Global Revival Center
X-ORIGINAL-URL:https://rgrcenter.org
X-WR-CALDESC:Events for Redeemed Global Revival Center
BEGIN:VEVENT
DTSTART;TZID=UTC+0:20230429T100000
DTEND;TZID=UTC+0:20230429T170000
DTSTAMP:20260423T084147
CREATED:20230408T005355Z
LAST-MODIFIED:20230408T005633Z
UID:3244-1682762400-1682787600@rgrcenter.org
SUMMARY:The Power of the Blood of Jesus
DESCRIPTION:Click Here to Register for this Event >>\n \n
URL:https://rgrcenter.org/event/the-power-of-the-blood-of-jesus/
CATEGORIES:Ministry
ATTACH;FMTTYPE=image/jpeg:https://rgrcenter.org/wp-content/uploads/2023/04/WhatsApp-Image-2023-04-07-at-9.17.15-PM.jpeg
END:VEVENT
END:VCALENDAR