BEGIN:VCALENDAR
VERSION:2.0
PRODID:-//Redeemed Global Revival Center - ECPv4.6.9//NONSGML v1.0//EN
CALSCALE:GREGORIAN
METHOD:PUBLISH
X-WR-CALNAME:Redeemed Global Revival Center
X-ORIGINAL-URL:https://rgrcenter.org
X-WR-CALDESC:Events for Redeemed Global Revival Center
BEGIN:VEVENT
DTSTART;TZID=UTC+0:20260424T203000
DTEND;TZID=UTC+0:20260424T233000
DTSTAMP:20260421T120102
CREATED:20260420T193812Z
LAST-MODIFIED:20260420T193830Z
UID:3718-1777062600-1777073400@rgrcenter.org
SUMMARY:THE FERVENT PRAYER OF THE RIGHTEOUS
DESCRIPTION: \n \n
URL:https://rgrcenter.org/event/the-fervent-prayer-of-the-righteous/
CATEGORIES:Ministry
ATTACH;FMTTYPE=image/jpeg:https://rgrcenter.org/wp-content/uploads/2026/04/WhatsApp-Image-2026-04-20-at-13.00.50.jpeg
END:VEVENT
END:VCALENDAR